BEGIN:VCALENDAR
VERSION:2.0
PRODID:-//ExpressionEngine Easy iCalendar plugin//NONSGML v2.0.1//EN
X-WR-TIMEZONE:America/Indiana/Indianapolis
X-WR-CALNAME:Upcoming Auctions
BEGIN:VEVENT
UID:91804
DTSTAMP:20221108T170000
DTSTART:20221108T170000
DTEND:20221110T190000
SUMMARY:Auction #18
LOCATION:{location}
DESCRIPTION:ALL SALES FINAL All items must be picked up within 7 days of
  auction close -- Westlake Liquidation Store  27351 Detroi
 t Rd Westlake\, OH
URL:https://www.westlakeliquidation.com/auctions/detail/bw91804
SEQUENCE:1
END:VEVENT
END:VCALENDAR